BEGIN:VCALENDAR
VERSION:2.0
PRODID:-//hacksw/handcal//NONSGML v1.0//EN
BEGIN:VEVENT
SUMMARY:U12F- U13F B2S-ASV-AS TOURLAVILLE pas de deplacement
UID:d6b63458-2425-4341-8471-ab5b7c7f2df6
DTSTART:20260404T064500Z
DTEND:20260404T100000Z
LOCATION:Localisation Stade Leo Lagrange 50 Tourlaville
CATEGORIES:Sportif
STATUS:
DESCRIPTION:<p>FESTIVAL Pitch</p>
 
 <p> </p>
 
 <p>rdv parking du stade
 8h45</p>
 
 <p> </p>
 
 <p> </p>
 
 <p> </p>
URL;VALUE=URI:https://www.asvalognesfootball.com/evenements/2026/04/04/u12f-u13f-b2s-asv-as-tourlaville-pas-de-deplacement-2316244
END:VEVENT
END:VCALENDAR
