BEGIN:VCALENDAR
VERSION:2.0
PRODID:-//hacksw/handcal//NONSGML v1.0//EN
BEGIN:VEVENT
SUMMARY:U8/U9 - INTERSECTEURS USOC (Stade des Pieux, a confirmer)
UID:0a632d0e-ac3a-4a0b-aff8-2d80cd31539b
DTSTART:20260321T074500Z
DTEND:20260321T110000Z
LOCATION:Localisation Stade municipal - D23 50340 Les Pieux
CATEGORIES:Sportif
STATUS:
DESCRIPTION:<table align="center" border="1" cellpadding="1"
 cellspacing="1">
 	<tbody>
 		<tr>
 			<td>
 			<p
 style="text-align:center;"><u><strong>Heure
 du RDV</strong></u></p>
 			</td>
 			<td
 style="text-align:center;"><em> 8h45</em></td>
 			<td>
 			<p
 style="text-align:center;"> <u><strong>Lieu
 de RDV</strong></u></p>
 			</td>
 			<td>
 			<p
 style="text-align:center;"><em>Parking du
 stade</em></p>
 			</td>
 		</tr>
 		<tr>
 			<td>
 			<p
 style="text-align:center;"><u><strong>Heure
 du match</strong></u></p>
 			</td>
 			<td colspan="3">
 			<p
 style="text-align:center;"><em><span
 style="font-size:14px;"><b>10h00</b></span></em></p>
 
 			<p
 style="text-align:center;"><em><b>Stade des Pieux (a
 confirmer)</b></em></p>
 			</td>
 		</tr>
 		<tr>
 			<td
 style="text-align:center;"><u><strong>Dirigeants</strong></u></td>
 			<td
 colspan="3">
 			<p style="text-align:center;"><em>Valentin, Nolan,
 Noan, Quentin, Matthieu.</em></p>
 
 			<p
 style="text-align:center;"><em>Marc :
 06.30.53.04.21‬</em></p>
 			</td>
 		</tr>
 		<tr>
 			<td
 style="text-align:center;"><u><strong>Observations</strong></u></td>
 			<td
 colspan="3">
 			<p style="text-align:center;">Prevoir equipement dont
 une paire de crampons + k-way du club + chaussettes du club +
 proteges tibias + gourde individuelle avec votre
 nom.</p>
 			</td>
 		</tr>
 	</tbody>
 </table>
 
 <p> </p>
 
 <p>Seras tu
 present ?</p>
 
 <p>Bien repondre au covoiturage SVP, afin de
 s'organiser pour les enfants sans moyen de transport (encore merci
 aux parents se portant volontaires).</p>
 
 <p><strong>Merci de me
 repondre des que possible (<span style="color:#e74c3c;">avant 17h
 mercredi pour inscription des equipes</span>).</strong></p>
 
 <p>A
 mercredi pour l'entrainement ! </p>
 
 <p> </p>
 
 <p><em>Les
 Educateurs.</em></p>
 
 <p><em>Marc RENOUF - Referent Categorie U8/U9
 pour la saison 2025/2026 - 06.30.53.04.21</em></p>
URL;VALUE=URI:https://www.asvalognesfootball.com/evenements/2026/03/21/u8u9-intersecteurs-usoc-stade-des-pieux-a-confirmer-2428562
END:VEVENT
END:VCALENDAR
