BEGIN:VCALENDAR
VERSION:2.0
PRODID:-//hacksw/handcal//NONSGML v1.0//EN
BEGIN:VEVENT
SUMMARY:ASV FOOT PARTAGE SOIREE COHESION GAME PARK TOURLAVILLE
UID:52c4949d-a26e-464f-9430-ae3a548b8c86
DTSTART:20260409T151500Z
DTEND:20260409T180000Z
LOCATION:Localisation GAME PARK 50 TOURLAVILLE
CATEGORIES:Sportif
STATUS:
URL;VALUE=URI:https://www.asvalognesfootball.com/evenements/2026/04/09/asv-foot-partage-soiree-cohesion-game-park-tourlaville-2354373
END:VEVENT
END:VCALENDAR
