BEGIN:VCALENDAR
VERSION:2.0
PRODID:-//hacksw/handcal//NONSGML v1.0//EN
BEGIN:VEVENT
SUMMARY:AS VALOGNES U15A    //    FCEH
UID:8d665fa5-d8c3-4267-a351-062149730b27
DTSTART:20260411T121500Z
DTEND:20260411T153000Z
LOCATION:Localisation   
CATEGORIES:Sportif
STATUS:
DESCRIPTION:<table border="1" cellpadding="1" cellspacing="1"
 style="width:100px;">
 	<tbody>
 		<tr>
 			<td
 style="background-color:#000066;text-align:center;">
 			<p><span
 style="font-size:10px;"><span style="color:#ff0000;"><u><strong>Heure
 du RDV</strong></u></span></span></p>
 			</td>
 			<td
 style="text-align:center;">
 			<p><b>14H15</b></p>
 			</td>
 			<td
 style="background-color:#000066;text-align:center;">
 			<div><span
 style="color:#ff0000;"><u><strong>Lieu de RDV
 :</strong></u></span></div>
 			</td>
 			<td
 style="text-align:center;width:150px;">
 			<p><b>VESTIAIRES SOUS LA
 TRIBUNE </b></p>
 			</td>
 		</tr>
 		<tr>
 			<td
 style="background-color:#000066;text-align:center;">
 			<p><span
 style="color:#ff0000;"><strong><span style="font-size:medium;">Heure
 du match</span></strong></span></p>
 			</td>
 			<td colspan="3"
 style="height:25px;width:15px;">
 			<p> </p>
 
 			<p
 style="text-align:center;">15H30</p>
 
 			<p
 style="text-align:center;"> </p>
 
 			<p> </p>
 			</td>
 		</tr>
 		<tr>
 			<td
 style="background-color:#000066;text-align:center;"><span
 style="color:#ff0000;"><u><strong>Coach
 :</strong></u></span></td>
 			<td colspan="3"
 style="height:25px;width:15px;">
 			<p> </p>
 
 			<p>MATTHIEU: </p>
 
 			<p>06
 05 13 89 88 </p>
 
 			<p> </p>
 			</td>
 		</tr>
 		<tr>
 			<td
 style="background-color:#000066;text-align:center;"><span
 style="color:#ff0000;"><u><strong>Observations</strong></u></span></td>
 			<td
 colspan="3">
 			<p> </p>
 
 			<p>Match sur herbe </p>
 
 			<p>(
 Terrain
 d'honneur) </p>
 
 			<p> </p>
 
 			<p> </p>
 			</td>
 		</tr>
 	</tbody>
 </table>
 
 <p> </p>
 
 <p> </p>
URL;VALUE=URI:https://www.asvalognesfootball.com/evenements/2026/04/11/as-valognes-u15a-fceh-1474127
END:VEVENT
END:VCALENDAR
