BEGIN:VCALENDAR
VERSION:2.0
PRODID:-//hacksw/handcal//NONSGML v1.0//EN
BEGIN:VEVENT
SUMMARY:ASV U11B  // AMICAL A OCTEVILLE
UID:5007ed48-fe27-4ac9-8b2e-607d941b817c
DTSTART:20260411T064500Z
DTEND:20260411T095000Z
LOCATION:Localisation 25 Rue du 10 Decembre 1948 50130 Octeville
CATEGORIES:Sportif
STATUS:
DESCRIPTION:<p> </p>
 
 <p> </p>
 
 <table border="1" cellpadding="1"
 cellspacing="1" style="width:100px;">
 	<tbody>
 		<tr>
 			<td
 style="background-color:#000066;text-align:center;">
 			<p><span
 style="font-size:10px;"><span style="color:#ff0000;"><u><strong>Heure
 du RDV,</strong></u></span></span></p>
 			</td>
 			<td
 style="text-align:center;"><font
 color="#3498db"><b>8h45</b></font></td>
 			<td
 style="background-color:#000066;text-align:center;"> </td>
 			<td
 style="text-align:center;width:150px;">
 			<p><span
 style="font-size:12px;"><b>PARKING DU
 STADE</b></span></p>
 			</td>
 		</tr>
 		<tr>
 			<td
 style="background-color:#000066;text-align:center;"><span
 style="color:#ff0000;"><u><strong>Coach :</strong></u></span></td>
 			<td
 colspan="3" style="height:25px;width:15px;">
 			<p>SAMUEL: 06 62 91
 74 21</p>
 			</td>
 		</tr>
 	</tbody>
 </table>
 
 <p> </p>
URL;VALUE=URI:https://www.asvalognesfootball.com/evenements/2026/04/11/asv-u11b-amical-a-octeville-1976834
END:VEVENT
END:VCALENDAR
