BEGIN:VCALENDAR
VERSION:2.0
PRODID:-//hacksw/handcal//NONSGML v1.0//EN
BEGIN:VEVENT
SUMMARY:U13C ASV - ROUGES - Championnat J4 vs SCUDD a Valognes
UID:6245ee9d-2165-4d26-abc4-0460f91b1104
DTSTART:20260411T101500Z
DTEND:20260411T123000Z
LOCATION:Localisation   
CATEGORIES:Sportif
STATUS:
DESCRIPTION:<p> </p>
 
 <table align="center" border="1"
 cellpadding="1" cellspacing="1"
 style="width:500px;">
 	<tbody>
 		<tr>
 			<td
 style="background-color:#000066;text-align:center;">
 			<p><span
 style="font-size:14px;"><span style="color:#ff0000;"><u><strong>Heure
 du RDV</strong></u></span></span></p>
 			</td>
 			<td
 style="text-align:center;">
 			<p><strong><span
 style="font-size:medium;"> 12h15</span></strong></p>
 			</td>
 			<td
 style="background-color:#000066;text-align:center;">
 			<p> <span
 style="color:#ff0000;"><u><strong>Lieu de RDV
 </strong></u></span></p>
 			</td>
 			<td
 style="width:150px;text-align:center;">
 			<p>Vestiaires<br>
 			du
 stade de Valognes </p>
 			</td>
 		</tr>
 		<tr>
 			<td
 style="background-color:#000066;text-align:center;">
 			<p><span
 style="color:#ff0000;"><u><strong><span
 style="font-size:medium;">Heure
 du match</span></strong></u></span></p>
 			</td>
 			<td colspan="3"
 style="height:25px;width:15px;text-align:center;">
 			<p><span
 style="font-size:20px;"><b>13h15</b></span></p>
 
 			<p><span
 style="font-size:20px;"><b>Stade de
 Valognes </b></span></p>
 			</td>
 		</tr>
 		<tr>
 			<td
 style="background-color:rgb(0,0,102);text-align:center;"><span
 style="color:#ff0000;"><u><strong>Dirigeants</strong></u></span></td>
 			<td
 colspan="3" style="height:25px;width:15px;">
 			<p
 style="text-align:center;">David VENISSE    06 33 59 38
 44</p>
 
 			<p style="text-align:center;">Bertrand LEDAN    06 75 24
 22 51</p>
 			</td>
 		</tr>
 		<tr>
 			<td
 style="background-color:rgb(0,0,102);text-align:center;"><span
 style="color:#ff0000;"><u><strong>Observations</strong></u></span></td>
 			<td
 colspan="3">
 			<p style="text-align:center;">Prevoir equipement
 habituel dont coupe-vent + gourde
 individuelle.</p>
 			</td>
 		</tr>
 	</tbody>
 </table>
 
 <p
 style="text-align:center;"><span style="color:#ff0000;"><u>Pour les
 matchs a l'exterieur, pensez a repondre au covoiturage apres la
 validation de la presence de votre enfant</u></span></p>
 
 <p
 style="text-align:center;">/!\ prevenez l'encadrant de l'equipe par
 SMS si vous allez directement sur place</p>
URL;VALUE=URI:https://www.asvalognesfootball.com/evenements/2026/04/11/u13c-asv-rouges-championnat-j4-vs-scudd-a-valognes-2410438
END:VEVENT
END:VCALENDAR
