BEGIN:VCALENDAR
VERSION:2.0
PRODID:-//hacksw/handcal//NONSGML v1.0//EN
BEGIN:VEVENT
SUMMARY:US COTE DES ILES   //   ASV U15B
UID:3fdf7cc6-3ed6-4eb7-af5c-1de979a12f96
DTSTART:20260411T075000Z
DTEND:20260411T123000Z
LOCATION:Localisation STADE 50580 PORTBAIL
CATEGORIES:Sportif
STATUS:
DESCRIPTION:<table style="height:855px;"
 width="259">
 	<tbody>
 		<tr>
 			<td
 style="background-color:#000066;text-align:center;"><span
 style="color:#ff0000;"><u><strong>Heure du
 RDV:</strong></u></span></td>
 			<td
 style="text-align:center;">
 			<p> </p>
 
 			<p>09H50</p>
 
 			<p> </p>
 			</td>
 			<td
 style="background-color:#000066;text-align:center;"><span
 style="color:#ff0000;"> <u><strong>Lieu de
  RDV:</strong></u></span></td>
 			<td
 style="text-align:center;width:150px;">
 			<p> </p>
 
 			<p>PARKING
 DU STADE 
  </p>
 
 			<p><strong> </strong></p>
 
 			<p><strong> </strong></p>
 			</td>
 		</tr>
 		<tr>
 			<td
 style="background-color:#000066;text-align:center;">
 			<p><span
 style="color:#ff0000;"><strong><span style="font-size:medium;">Heure
 du match :</span></strong></span></p>
 			</td>
 			<td colspan="3"
 style="height:25px;width:15px;">
 			<p>11H30</p>
 
 			<p> </p>
 			</td>
 		</tr>
 		<tr>
 			<td
 style="background-color:#000066;text-align:center;"><span
 style="color:#ff0000;"><u><strong>Dirigeants
 :</strong></u></span></td>
 			<td colspan="3"
 style="height:25px;width:15px;">
 			<p> </p>
 
 			<p>MARC
 RENOUF </p>
 
 			<p>06.30.53.04.21</p>
 
 			<p> </p>
 
 			<p> </p>
 			</td>
 		</tr>
 		<tr>
 			<td
 style="background-color:#000066;text-align:center;"><span
 style="color:#ff0000;"><u><strong>Observations:</strong></u></span></td>
 			<td
 colspan="3">
 			<p> </p>
 
 			<p>MATCH SUR HERBE A
 PORTBAIL </p>
 
 			<p> </p>
 
 			<p> </p>
 
 			<p> </p>
 
 			<p> </p>
 
 			<p> </p>
 
 			<p> </p>
 
 			<p> </p>
 
 			<p> </p>
 
 			<p> </p>
 
 			<p> </p>
 
 			<p> </p>
 
 			<p> </p>
 
 			<p> </p>
 
 			<p> </p>
 			</td>
 		</tr>
 	</tbody>
 </table>
URL;VALUE=URI:https://www.asvalognesfootball.com/evenements/2026/04/11/us-cote-des-iles-asv-u15b-1772334
END:VEVENT
END:VCALENDAR
