BEGIN:VCALENDAR
VERSION:2.0
PRODID:-//hacksw/handcal//NONSGML v1.0//EN
BEGIN:VEVENT
SUMMARY:U13A ASV - Entrainement
UID:f8583e88-5b73-4b07-93d0-ad371077433a
DTSTART:20260424T151500Z
DTEND:20260424T165000Z
LOCATION:Localisation   
CATEGORIES:Sportif
STATUS:
DESCRIPTION:<p> </p>
 
 <table align="center" border="1"
 cellpadding="1" cellspacing="1"
 style="width:500px;">
 	<tbody>
 		<tr>
 			<td
 style="background-color:#000066;text-align:center;">
 			<p><span
 style="font-size:14px;"><span style="color:#ff0000;"><u><strong>Heure
 du RDV</strong></u></span></span></p>
 			</td>
 			<td
 style="text-align:center;">
 			<p><strong><span
 style="font-size:medium;"> 17h15</span></strong></p>
 			</td>
 			<td
 style="background-color:#000066;text-align:center;">
 			<p> <span
 style="color:#ff0000;"><u><strong>Lieu de RDV
 </strong></u></span></p>
 			</td>
 			<td
 style="width:150px;text-align:center;">
 			<p>Vestiaires<br>
 			du
 stade de Valognes</p>
 			</td>
 		</tr>
 		<tr>
 			<td
 style="background-color:#000066;text-align:center;">
 			<p><span
 style="color:#ff0000;"><u><strong><span
 style="font-size:medium;">Heure
 du match</span></strong></u></span></p>
 			</td>
 			<td colspan="3"
 style="height:25px;width:15px;text-align:center;">
 			<p><span
 style="font-size:20px;"><b>Debut d'entrainement a
 17h25</b></span></p>
 			</td>
 		</tr>
 		<tr>
 			<td
 style="background-color:rgb(0,0,102);text-align:center;"><span
 style="color:#ff0000;"><u><strong>Dirigeants</strong></u></span></td>
 			<td
 colspan="3" style="height:25px;width:15px;">
 			<p
 style="text-align:center;">Guillaume TRAVERS :
 06.24.36.15.55</p>
 
 			<p style="text-align:center;">Julien LEBAS :
 06.48.29.14.32</p>
 			</td>
 		</tr>
 		<tr>
 			<td
 style="background-color:rgb(0,0,102);text-align:center;"><span
 style="color:#ff0000;"><u><strong>Observations</strong></u></span></td>
 			<td
 colspan="3">
 			<p style="text-align:center;">Prevoir
 equipement</p>
 			</td>
 		</tr>
 	</tbody>
 </table>
URL;VALUE=URI:https://www.asvalognesfootball.com/evenements/2026/04/24/u13a-asv-entrainement-2443347
END:VEVENT
END:VCALENDAR
